BEGIN:VCALENDAR
VERSION:2.0
METHOD:PUBLISH
PRODID:-//Accessible Web Design//My Calendar//http://www.joedolson.com//v//EN';
BEGIN:VEVENT
UID:239-52
LOCATION:
SUMMARY:Tournament - 14
DTSTAMP:20230121
ORGANIZER;CN=admin:MAILTO:sbunker1502@yahoo.com
DTSTART:20230121
DTEND:20230123
CATEGORIES:General
URL;VALUE=URI:
DESCRIPTION;ENCODING=QUOTED-PRINTABLE:14U will play 
X-FUNAMBOL-ALLDAY: 1
X-MICROSOFT-CDO-ALLDAYEVENT: TRUE

END:VEVENT
END:VCALENDAR