BEGIN:VCALENDAR
VERSION:2.0
METHOD:PUBLISH
PRODID:-//Accessible Web Design//My Calendar//http://www.joedolson.com//v//EN';
BEGIN:VEVENT
UID:251-64
LOCATION:Mountain Vista Park Field #1 13647 S 50th St  Phoenix AZ 85044
SUMMARY:13 Practice
DTSTAMP:20230725T180000
ORGANIZER;CN=admin:MAILTO:sbunker1502@yahoo.com
DTSTART:20230725T180000
DTEND:20230725T200000
CATEGORIES:General
URL;VALUE=URI:
DESCRIPTION;ENCODING=QUOTED-PRINTABLE:13U Practice Mountain Vista Park 
END:VEVENT
END:VCALENDAR