BEGIN:VCALENDAR
VERSION:2.0
METHOD:PUBLISH
PRODID:-//Accessible Web Design//My Calendar//http://www.joedolson.com//v//EN';
BEGIN:VEVENT
UID:439-91
LOCATION:
SUMMARY:Tournament
DTSTAMP:20231020
ORGANIZER;CN=admin:MAILTO:sbunker1502@yahoo.com
DTSTART:20231020
DTEND:20231023
CATEGORIES:General
URL;VALUE=URI:
DESCRIPTION;ENCODING=QUOTED-PRINTABLE:15 &amp; 16U will play (Southwest Wood Bat) - Wood Bat only 
X-FUNAMBOL-ALLDAY: 1
X-MICROSOFT-CDO-ALLDAYEVENT: TRUE

END:VEVENT
END:VCALENDAR