BEGIN:VCALENDAR
VERSION:2.0
METHOD:PUBLISH
PRODID:-//Accessible Web Design//My Calendar//http://www.joedolson.com//v//EN';
BEGIN:VEVENT
UID:450-102
LOCATION:
SUMMARY:Toys For Tots 2 - 14U Red
DTSTAMP:20241214T000000
ORGANIZER;CN=admin:MAILTO:sbunker1502@yahoo.com
DTSTART:20241214T000000
DTEND:20241215T010000
CATEGORIES:General
URL;VALUE=URI:
DESCRIPTION;ENCODING=QUOTED-PRINTABLE: 
END:VEVENT
END:VCALENDAR