BEGIN:VCALENDAR
VERSION:2.0
METHOD:PUBLISH
PRODID:-//Accessible Web Design//My Calendar//http://www.joedolson.com//v//EN';
BEGIN:VEVENT
UID:452-104
LOCATION:
SUMMARY:Fall State Championship - 14U Black
DTSTAMP:20241102T000000
ORGANIZER;CN=admin:MAILTO:sbunker1502@yahoo.com
DTSTART:20241102T000000
DTEND:20241103T010000
CATEGORIES:General
URL;VALUE=URI:
DESCRIPTION;ENCODING=QUOTED-PRINTABLE: 
END:VEVENT
END:VCALENDAR