BEGIN:VCALENDAR
VERSION:2.0
METHOD:PUBLISH
PRODID:-//Accessible Web Design//My Calendar//http://www.joedolson.com//v//EN';
BEGIN:VEVENT
UID:238-51
LOCATION:
SUMMARY:Tournament - 11, 13,14 &amp; 15U
DTSTAMP:20230114
ORGANIZER;CN=admin:MAILTO:sbunker1502@yahoo.com
DTSTART:20230114
DTEND:20230117
CATEGORIES:General
URL;VALUE=URI:
DESCRIPTION;ENCODING=QUOTED-PRINTABLE:11, 13, 14 &amp; 15U will play in Vegas 
X-FUNAMBOL-ALLDAY: 1
X-MICROSOFT-CDO-ALLDAYEVENT: TRUE

END:VEVENT
END:VCALENDAR