BEGIN:VCALENDAR
VERSION:2.0
METHOD:PUBLISH
PRODID:-//Accessible Web Design//My Calendar//http://www.joedolson.com//v//EN';
BEGIN:VEVENT
UID:240-53
LOCATION:
SUMMARY:Tournament - 13U
DTSTAMP:20230128
ORGANIZER;CN=admin:MAILTO:sbunker1502@yahoo.com
DTSTART:20230128
DTEND:20230130
CATEGORIES:General
URL;VALUE=URI:
DESCRIPTION;ENCODING=QUOTED-PRINTABLE:13U will play 
X-FUNAMBOL-ALLDAY: 1
X-MICROSOFT-CDO-ALLDAYEVENT: TRUE

END:VEVENT
END:VCALENDAR