BEGIN:VCALENDAR
VERSION:2.0
METHOD:PUBLISH
PRODID:-//Accessible Web Design//My Calendar//http://www.joedolson.com//v//EN';
BEGIN:VEVENT
UID:248-61
LOCATION:
SUMMARY:Tournament - 11 &amp; 13
DTSTAMP:20230429
ORGANIZER;CN=admin:MAILTO:sbunker1502@yahoo.com
DTSTART:20230429
DTEND:20230501
CATEGORIES:General
URL;VALUE=URI:
DESCRIPTION;ENCODING=QUOTED-PRINTABLE: 
X-FUNAMBOL-ALLDAY: 1
X-MICROSOFT-CDO-ALLDAYEVENT: TRUE

END:VEVENT
END:VCALENDAR