BEGIN:VCALENDAR
VERSION:2.0
METHOD:PUBLISH
PRODID:-//Accessible Web Design//My Calendar//http://www.joedolson.com//v//EN';
BEGIN:VEVENT
UID:250-63
LOCATION:Native New Yorker (Ray Road) 5030 E Ray Rd  Phoenix AZ 85044
SUMMARY:13U Team Meeting and Uniform Fitting Night
DTSTAMP:20230720T183000
ORGANIZER;CN=admin:MAILTO:sbunker1502@yahoo.com
DTSTART:20230720T183000
DTEND:20230720T200000
CATEGORIES:General
URL;VALUE=URI:
DESCRIPTION;ENCODING=QUOTED-PRINTABLE: 
END:VEVENT
END:VCALENDAR