BEGIN:VCALENDAR
VERSION:2.0
METHOD:PUBLISH
PRODID:-//Accessible Web Design//My Calendar//http://www.joedolson.com//v//EN';
BEGIN:VEVENT
UID:252-65
LOCATION:Mountain Vista Park Field #1 13647 S 50th St  Phoenix AZ 85044
SUMMARY:15 &amp; 16U Practice
DTSTAMP:20230727T180000
ORGANIZER;CN=admin:MAILTO:sbunker1502@yahoo.com
DTSTART:20230727T180000
DTEND:20230727T200000
CATEGORIES:General
URL;VALUE=URI:
DESCRIPTION;ENCODING=QUOTED-PRINTABLE:15 &amp; 16U Teams will practice 
END:VEVENT
END:VCALENDAR