BEGIN:VCALENDAR
VERSION:2.0
METHOD:PUBLISH
PRODID:-//Accessible Web Design//My Calendar//http://www.joedolson.com//v//EN';
BEGIN:VEVENT
UID:412-82
LOCATION:Akimel Middle School - Upper Field
SUMMARY:13 Practice
DTSTAMP:20230830
ORGANIZER;CN=admin:MAILTO:sbunker1502@yahoo.com
DTSTART:20230830
DTEND:20230831
CATEGORIES:General
URL;VALUE=URI:
DESCRIPTION;ENCODING=QUOTED-PRINTABLE: 
X-FUNAMBOL-ALLDAY: 1
X-MICROSOFT-CDO-ALLDAYEVENT: TRUE

END:VEVENT
END:VCALENDAR