BEGIN:VCALENDAR
VERSION:2.0
METHOD:PUBLISH
PRODID:-//Accessible Web Design//My Calendar//http://www.joedolson.com//v//EN';
BEGIN:VEVENT
UID:436-88
LOCATION:
SUMMARY:Tournament
DTSTAMP:20231216
ORGANIZER;CN=admin:MAILTO:sbunker1502@yahoo.com
DTSTART:20231216
DTEND:20231218
CATEGORIES:General
URL;VALUE=URI:
DESCRIPTION;ENCODING=QUOTED-PRINTABLE:13U will play 
X-FUNAMBOL-ALLDAY: 1
X-MICROSOFT-CDO-ALLDAYEVENT: TRUE

END:VEVENT
END:VCALENDAR