BEGIN:VCALENDAR
VERSION:2.0
METHOD:PUBLISH
PRODID:-//Accessible Web Design//My Calendar//http://www.joedolson.com//v//EN';
BEGIN:VEVENT
UID:447-99
LOCATION:
SUMMARY:September Call up  - 16U
DTSTAMP:20240921T000000
ORGANIZER;CN=admin:MAILTO:sbunker1502@yahoo.com
DTSTART:20240921T000000
DTEND:20240922T010000
CATEGORIES:General
URL;VALUE=URI:
DESCRIPTION;ENCODING=QUOTED-PRINTABLE: 
END:VEVENT
END:VCALENDAR