BEGIN:VCALENDAR
VERSION:2.0
METHOD:PUBLISH
PRODID:-//Accessible Web Design//My Calendar//http://www.joedolson.com//v//EN';
BEGIN:VEVENT
UID:458-110
LOCATION:
SUMMARY:Southwest World Series - 16U
DTSTAMP:20241109T000000
ORGANIZER;CN=admin:MAILTO:sbunker1502@yahoo.com
DTSTART:20241109T000000
DTEND:20241110T010000
CATEGORIES:General
URL;VALUE=URI:
DESCRIPTION;ENCODING=QUOTED-PRINTABLE: 
END:VEVENT
END:VCALENDAR